BEGIN:VCALENDAR
VERSION:2.0
PRODID:-//위해중세외국인학교 - ECPv6.12.0.1//NONSGML v1.0//EN
CALSCALE:GREGORIAN
METHOD:PUBLISH
X-WR-CALNAME:위해중세외국인학교
X-ORIGINAL-URL:https://weihaizhongshi.com/kr
X-WR-CALDESC:위해중세외국인학교 이벤트
REFRESH-INTERVAL;VALUE=DURATION:PT1H
X-Robots-Tag:noindex
X-PUBLISHED-TTL:PT1H
BEGIN:VTIMEZONE
TZID:Asia/Shanghai
BEGIN:STANDARD
TZOFFSETFROM:+0800
TZOFFSETTO:+0800
TZNAME:CST
DTSTART:20250101T000000
END:STANDARD
END:VTIMEZONE
BEGIN:VEVENT
DTSTART;VALUE=DATE:20250404
DTEND;VALUE=DATE:20250405
DTSTAMP:20260420T005330
CREATED:20250321T015006Z
LAST-MODIFIED:20250321T024748Z
UID:10000004-1743724800-1743811199@weihaizhongshi.com
SUMMARY:Tomb-Sweeping Day(Qing Ming jie)
DESCRIPTION:휴교
URL:https://weihaizhongshi.com/kr/event/tomb-sweeping-dayqing-ming-jie/
END:VEVENT
BEGIN:VEVENT
DTSTART;VALUE=DATE:20250329
DTEND;VALUE=DATE:20250330
DTSTAMP:20260420T005330
CREATED:20250321T014806Z
LAST-MODIFIED:20250321T014806Z
UID:10000003-1743206400-1743292799@weihaizhongshi.com
SUMMARY:Math Kangaroo
DESCRIPTION:
URL:https://weihaizhongshi.com/kr/event/math-kangaroo/
END:VEVENT
BEGIN:VEVENT
DTSTART;VALUE=DATE:20250328
DTEND;VALUE=DATE:20250329
DTSTAMP:20260420T005330
CREATED:20250321T014712Z
LAST-MODIFIED:20250321T022113Z
UID:10000002-1743120000-1743206399@weihaizhongshi.com
SUMMARY:Birthday Party & Casual Day
DESCRIPTION:
URL:https://weihaizhongshi.com/kr/event/birthday-party-casual-day/
CATEGORIES:WZFS ALL
END:VEVENT
BEGIN:VEVENT
DTSTART;VALUE=DATE:20250320
DTEND;VALUE=DATE:20250321
DTSTAMP:20260420T005330
CREATED:20250320T021255Z
LAST-MODIFIED:20250321T023643Z
UID:10000001-1742428800-1742515199@weihaizhongshi.com
SUMMARY:TED x @WZFS
DESCRIPTION:
URL:https://weihaizhongshi.com/kr/event/ted-x-wzfs/
CATEGORIES:WZFS Upper
ATTACH;FMTTYPE=image/jpeg:https://weihaizhongshi.com/wp-content/uploads/2025/03/ted.jpg
END:VEVENT
END:VCALENDAR